BEGIN:VCALENDAR
VERSION:2.0
PRODID:-//Caine For Congress - ECPv6.14.2//NONSGML v1.0//EN
CALSCALE:GREGORIAN
METHOD:PUBLISH
X-WR-CALNAME:Caine For Congress
X-ORIGINAL-URL:https://caineforcongress.com
X-WR-CALDESC:Events for Caine For Congress
REFRESH-INTERVAL;VALUE=DURATION:PT1H
X-Robots-Tag:noindex
X-PUBLISHED-TTL:PT1H
BEGIN:VTIMEZONE
TZID:UTC
BEGIN:STANDARD
TZOFFSETFROM:+0000
TZOFFSETTO:+0000
TZNAME:UTC
DTSTART:20190101T000000
END:STANDARD
END:VTIMEZONE
BEGIN:VEVENT
DTSTART;VALUE=DATE:20190126
DTEND;VALUE=DATE:20210809
DTSTAMP:20260420T064941
CREATED:20171108T163317Z
LAST-MODIFIED:20171108T163317Z
UID:325-1548460800-1628467199@caineforcongress.com
SUMMARY:Austin Deputy Voter Registrar Training
DESCRIPTION:Vivamus magna justo\, lacinia eget consectetur sed\, convallis at tellus. Sed porttitor lectus nibh. Nulla quis lorem ut libero malesuada feugiat. Mauris blandit aliquet elit\, eget tincidunt nibh pulvinar a. Vivamus suscipit tortor eget felis porttitor volutpat. Vivamus suscipit tortor eget felis porttitor volutpat. Proin eget tortor risus.
URL:https://caineforcongress.com/event/austin-deputy-voter-registrar-training/
LOCATION:Democrats Campaign Headquarters\, Glasgow\, Scotland\, 3800\, United Kingdom
CATEGORIES:Training
ATTACH;FMTTYPE=image/jpeg:https://caineforcongress.com/wp-content/uploads/2017/11/750x450_img3.jpg
ORGANIZER;CN="Texas Democrats":MAILTO:info@texasdems.com
END:VEVENT
END:VCALENDAR